Package: MGFM Version: 1.41.0 Command: /Library/Frameworks/R.framework/Resources/bin/R CMD build --keep-empty-dirs --no-resave-data MGFM StartedAt: 2025-02-09 17:25:42 -0500 (Sun, 09 Feb 2025) EndedAt: 2025-02-09 17:26:22 -0500 (Sun, 09 Feb 2025) EllapsedTime: 40.0 seconds RetCode: 0 Status: OK PackageFile: MGFM_1.41.0.tar.gz PackageFileSize: 3.49 MiB