Package: MGFM Version: 1.41.0 Command: /Library/Frameworks/R.framework/Resources/bin/R CMD INSTALL MGFM StartedAt: 2025-02-09 15:17:11 -0500 (Sun, 09 Feb 2025) EndedAt: 2025-02-09 15:17:30 -0500 (Sun, 09 Feb 2025) EllapsedTime: 18.5 seconds RetCode: 0 Status: OK