Package: MGFR Version: 1.33.0 Command: /Library/Frameworks/R.framework/Resources/bin/R CMD build --keep-empty-dirs --no-resave-data MGFR StartedAt: 2025-02-09 16:55:29 -0500 (Sun, 09 Feb 2025) EndedAt: 2025-02-09 17:01:02 -0500 (Sun, 09 Feb 2025) EllapsedTime: 333.7 seconds RetCode: 1 Status: ERROR PackageFile: None PackageFileSize: NA