Package: MGFR Version: 1.33.0 Command: /Library/Frameworks/R.framework/Resources/bin/R CMD check --install=check:MGFR.install-out.txt --library=/Library/Frameworks/R.framework/Resources/library --no-vignettes --timings MGFR_1.33.0.tar.gz StartedAt: 2025-02-05 20:11:11 -0500 (Wed, 05 Feb 2025) EndedAt: 2025-02-05 20:12:47 -0500 (Wed, 05 Feb 2025) EllapsedTime: 96.2 seconds RetCode: 0 Status: OK CheckDir: MGFR.Rcheck Warnings: 0