Package: MGFR Version: 1.33.0 Command: rm -rf MGFR.buildbin-libdir && mkdir MGFR.buildbin-libdir && /Users/biocbuild/BBS/utils/build-universal.sh MGFR_1.33.0.tar.gz /Library/Frameworks/R.framework/Resources/bin/R MGFR.buildbin-libdir StartedAt: 2025-02-05 00:48:38 -0500 (Wed, 05 Feb 2025) EndedAt: 2025-02-05 00:49:01 -0500 (Wed, 05 Feb 2025) EllapsedTime: 22.9 seconds RetCode: 0 Status: OK PackageFile: MGFR_1.33.0.tgz PackageFileSize: 2.64 MiB