Package: MGFR Version: 1.33.0 Command: /Library/Frameworks/R.framework/Resources/bin/R CMD INSTALL MGFR StartedAt: 2025-02-04 15:18:30 -0500 (Tue, 04 Feb 2025) EndedAt: 2025-02-04 15:18:50 -0500 (Tue, 04 Feb 2025) EllapsedTime: 20.1 seconds RetCode: 0 Status: OK