Package: MGFR Version: 1.33.0 Command: /home/biocbuild/bbs-3.21-bioc/R/bin/R CMD build --keep-empty-dirs --no-resave-data MGFR StartedAt: 2025-02-12 18:02:47 -0500 (Wed, 12 Feb 2025) EndedAt: 2025-02-12 18:03:52 -0500 (Wed, 12 Feb 2025) EllapsedTime: 65.1 seconds RetCode: 0 Status: OK PackageFile: MGFR_1.33.0.tar.gz PackageFileSize: 1.824 MiB