Package: MGFR Version: 1.33.0 Command: rm -rf MGFR.buildbin-libdir && mkdir MGFR.buildbin-libdir && E:\biocbuild\bbs-3.21-bioc\R\bin\R.exe CMD INSTALL --build --library=MGFR.buildbin-libdir MGFR_1.33.0.tar.gz StartedAt: 2025-02-05 08:20:10 -0500 (Wed, 05 Feb 2025) EndedAt: 2025-02-05 08:20:27 -0500 (Wed, 05 Feb 2025) EllapsedTime: 17.4 seconds RetCode: 0 Status: OK PackageFile: MGFR_1.33.0.zip PackageFileSize: 2.452 MiB