Package: MGFR Version: 1.33.0 Command: chmod a+r MGFR -R && E:\biocbuild\bbs-3.21-bioc\R\bin\R.exe CMD build --keep-empty-dirs --no-resave-data MGFR StartedAt: 2025-02-04 19:55:00 -0500 (Tue, 04 Feb 2025) EndedAt: 2025-02-04 19:55:39 -0500 (Tue, 04 Feb 2025) EllapsedTime: 39.2 seconds RetCode: 0 Status: OK PackageFile: MGFR_1.33.0.tar.gz PackageFileSize: 1.635 MiB