Package: MGFR Version: 1.33.0 Command: E:\biocbuild\bbs-3.21-bioc\R\bin\R.exe CMD INSTALL MGFR StartedAt: 2025-02-09 15:51:05 -0500 (Sun, 09 Feb 2025) EndedAt: 2025-02-09 15:51:25 -0500 (Sun, 09 Feb 2025) EllapsedTime: 20.3 seconds RetCode: 0 Status: OK