Package: MLP Version: 1.55.0 Command: rm -rf MLP.buildbin-libdir && mkdir MLP.buildbin-libdir && /Users/biocbuild/BBS/utils/build-universal.sh MLP_1.55.0.tar.gz /Library/Frameworks/R.framework/Resources/bin/R MLP.buildbin-libdir StartedAt: 2025-02-12 22:26:49 -0500 (Wed, 12 Feb 2025) EndedAt: 2025-02-12 22:26:56 -0500 (Wed, 12 Feb 2025) EllapsedTime: 7.1 seconds RetCode: 0 Status: OK PackageFile: MLP_1.55.0.tgz PackageFileSize: 4.337 MiB