Package: MLP Version: 1.55.0 Command: /Library/Frameworks/R.framework/Resources/bin/R CMD check --install=check:MLP.install-out.txt --library=/Library/Frameworks/R.framework/Resources/library --no-vignettes --timings MLP_1.55.0.tar.gz StartedAt: 2025-02-09 20:10:28 -0500 (Sun, 09 Feb 2025) EndedAt: 2025-02-09 20:13:13 -0500 (Sun, 09 Feb 2025) EllapsedTime: 164.9 seconds RetCode: 1 Status: ERROR CheckDir: MLP.Rcheck Warnings: NA