Package: MLP Version: 1.55.0 Command: rm -rf MLP.buildbin-libdir && mkdir MLP.buildbin-libdir && E:\biocbuild\bbs-3.21-bioc\R\bin\R.exe CMD INSTALL --build --library=MLP.buildbin-libdir MLP_1.55.0.tar.gz StartedAt: 2025-02-13 08:21:29 -0500 (Thu, 13 Feb 2025) EndedAt: 2025-02-13 08:21:51 -0500 (Thu, 13 Feb 2025) EllapsedTime: 22.2 seconds RetCode: 0 Status: OK PackageFile: MLP_1.55.0.zip PackageFileSize: 4.192 MiB