Package: MLP Version: 1.55.0 Command: E:\biocbuild\bbs-3.21-bioc\R\bin\R.exe CMD INSTALL MLP StartedAt: 2025-02-12 15:46:54 -0500 (Wed, 12 Feb 2025) EndedAt: 2025-02-12 15:47:12 -0500 (Wed, 12 Feb 2025) EllapsedTime: 18.7 seconds RetCode: 0 Status: OK