Package: MLSeq Version: 2.25.0 Command: /Library/Frameworks/R.framework/Resources/bin/R CMD build --keep-empty-dirs --no-resave-data MLSeq StartedAt: 2025-02-12 16:58:44 -0500 (Wed, 12 Feb 2025) EndedAt: 2025-02-12 16:59:26 -0500 (Wed, 12 Feb 2025) EllapsedTime: 42.4 seconds RetCode: 0 Status: OK PackageFile: MLSeq_2.25.0.tar.gz PackageFileSize: 599.7 KiB