Package: MLSeq Version: 2.25.0 Command: /Library/Frameworks/R.framework/Resources/bin/R CMD build --keep-empty-dirs --no-resave-data MLSeq StartedAt: 2025-02-09 17:29:38 -0500 (Sun, 09 Feb 2025) EndedAt: 2025-02-09 17:31:51 -0500 (Sun, 09 Feb 2025) EllapsedTime: 132.3 seconds RetCode: 0 Status: OK PackageFile: MLSeq_2.25.0.tar.gz PackageFileSize: 599.7 KiB