Package: MLSeq Version: 2.25.0 Command: /home/biocbuild/bbs-3.21-bioc/R/bin/R CMD INSTALL MLSeq StartedAt: 2025-02-09 15:20:59 -0500 (Sun, 09 Feb 2025) EndedAt: 2025-02-09 15:21:33 -0500 (Sun, 09 Feb 2025) EllapsedTime: 34.8 seconds RetCode: 0 Status: OK