Package: MLSeq Version: 2.25.0 Command: rm -rf MLSeq.buildbin-libdir && mkdir MLSeq.buildbin-libdir && E:\biocbuild\bbs-3.21-bioc\R\bin\R.exe CMD INSTALL --build --library=MLSeq.buildbin-libdir MLSeq_2.25.0.tar.gz StartedAt: 2025-02-10 08:10:31 -0500 (Mon, 10 Feb 2025) EndedAt: 2025-02-10 08:11:49 -0500 (Mon, 10 Feb 2025) EllapsedTime: 77.8 seconds RetCode: 0 Status: OK PackageFile: MLSeq_2.25.0.zip PackageFileSize: 1023 KiB