Package: MLSeq Version: 2.25.0 Command: E:\biocbuild\bbs-3.21-bioc\R\bin\R.exe CMD check --no-multiarch --install=check:MLSeq.install-out.txt --library=E:\biocbuild\bbs-3.21-bioc\R\library --no-vignettes --timings MLSeq_2.25.0.tar.gz StartedAt: 2025-02-10 03:03:17 -0500 (Mon, 10 Feb 2025) EndedAt: 2025-02-10 03:07:33 -0500 (Mon, 10 Feb 2025) EllapsedTime: 256.3 seconds RetCode: 0 Status: OK CheckDir: MLSeq.Rcheck Warnings: 0