Package: MMDiff2 Version: 1.35.0 Command: /Library/Frameworks/R.framework/Resources/bin/R CMD check --install=check:MMDiff2.install-out.txt --library=/Library/Frameworks/R.framework/Resources/library --no-vignettes --timings MMDiff2_1.35.0.tar.gz StartedAt: 2025-02-09 20:10:42 -0500 (Sun, 09 Feb 2025) EndedAt: 2025-02-09 20:12:38 -0500 (Sun, 09 Feb 2025) EllapsedTime: 115.3 seconds RetCode: 0 Status: OK CheckDir: MMDiff2.Rcheck Warnings: 0