Package: MMDiff2 Version: 1.35.0 Command: rm -rf MMDiff2.buildbin-libdir && mkdir MMDiff2.buildbin-libdir && /Users/biocbuild/BBS/utils/build-universal.sh MMDiff2_1.35.0.tar.gz /Library/Frameworks/R.framework/Resources/bin/R MMDiff2.buildbin-libdir StartedAt: 2025-02-10 01:03:26 -0500 (Mon, 10 Feb 2025) EndedAt: 2025-02-10 01:04:20 -0500 (Mon, 10 Feb 2025) EllapsedTime: 54.0 seconds RetCode: 0 Status: OK PackageFile: MMDiff2_1.35.0.tgz PackageFileSize: 3.075 MiB