Package: MMDiff2 Version: 1.35.0 Command: rm -rf MMDiff2.buildbin-libdir && mkdir MMDiff2.buildbin-libdir && E:\biocbuild\bbs-3.21-bioc\R\bin\R.exe CMD INSTALL --build --library=MMDiff2.buildbin-libdir MMDiff2_1.35.0.tar.gz StartedAt: 2025-02-10 08:10:39 -0500 (Mon, 10 Feb 2025) EndedAt: 2025-02-10 08:11:57 -0500 (Mon, 10 Feb 2025) EllapsedTime: 77.9 seconds RetCode: 0 Status: OK PackageFile: MMDiff2_1.35.0.zip PackageFileSize: 3.079 MiB