Package: MMDiff2 Version: 1.35.0 Command: chmod a+r MMDiff2 -R && E:\biocbuild\bbs-3.21-bioc\R\bin\R.exe CMD build --keep-empty-dirs --no-resave-data MMDiff2 StartedAt: 2025-02-09 19:59:34 -0500 (Sun, 09 Feb 2025) EndedAt: 2025-02-09 20:03:02 -0500 (Sun, 09 Feb 2025) EllapsedTime: 208.3 seconds RetCode: 0 Status: OK PackageFile: MMDiff2_1.35.0.tar.gz PackageFileSize: 2.87 MiB