Package: MMDiff2 Version: 1.35.0 Command: E:\biocbuild\bbs-3.21-bioc\R\bin\R.exe CMD INSTALL MMDiff2 StartedAt: 2025-02-09 16:35:41 -0500 (Sun, 09 Feb 2025) EndedAt: 2025-02-09 16:36:40 -0500 (Sun, 09 Feb 2025) EllapsedTime: 59.3 seconds RetCode: 0 Status: OK