Package: MODA Version: 1.33.0 Command: rm -rf MODA.buildbin-libdir && mkdir MODA.buildbin-libdir && /Users/biocbuild/BBS/utils/build-universal.sh MODA_1.33.0.tar.gz /Library/Frameworks/R.framework/Resources/bin/R MODA.buildbin-libdir StartedAt: 2025-02-09 22:21:42 -0500 (Sun, 09 Feb 2025) EndedAt: 2025-02-09 22:21:51 -0500 (Sun, 09 Feb 2025) EllapsedTime: 9.2 seconds RetCode: 0 Status: OK PackageFile: MODA_1.33.0.tgz PackageFileSize: 360.4 KiB