Package: MODA Version: 1.33.0 Command: /Library/Frameworks/R.framework/Resources/bin/R CMD check --install=check:MODA.install-out.txt --library=/Library/Frameworks/R.framework/Resources/library --no-vignettes --timings MODA_1.33.0.tar.gz StartedAt: 2025-02-09 20:11:32 -0500 (Sun, 09 Feb 2025) EndedAt: 2025-02-09 20:12:22 -0500 (Sun, 09 Feb 2025) EllapsedTime: 49.5 seconds RetCode: 0 Status: OK CheckDir: MODA.Rcheck Warnings: 0