Package: MODA Version: 1.33.0 Command: /home/biocbuild/R/R/bin/R CMD build --keep-empty-dirs --no-resave-data MODA StartedAt: 2025-01-29 00:28:47 -0000 (Wed, 29 Jan 2025) EndedAt: 2025-01-29 00:28:48 -0000 (Wed, 29 Jan 2025) EllapsedTime: 1.0 seconds RetCode: 0 Status: OK PackageFile: MODA_1.33.0.tar.gz PackageFileSize: 296.2 KiB