Package: MODA Version: 1.33.0 Command: rm -rf MODA.buildbin-libdir && mkdir MODA.buildbin-libdir && /Users/biocbuild/BBS/utils/build-universal.sh MODA_1.33.0.tar.gz /Library/Frameworks/R.framework/Resources/bin/R MODA.buildbin-libdir StartedAt: 2025-02-10 01:03:29 -0500 (Mon, 10 Feb 2025) EndedAt: 2025-02-10 01:03:57 -0500 (Mon, 10 Feb 2025) EllapsedTime: 27.7 seconds RetCode: 0 Status: OK PackageFile: MODA_1.33.0.tgz PackageFileSize: 359.2 KiB