Package: MODA Version: 1.33.0 Command: /Library/Frameworks/R.framework/Resources/bin/R CMD build --keep-empty-dirs --no-resave-data MODA StartedAt: 2025-02-09 17:30:44 -0500 (Sun, 09 Feb 2025) EndedAt: 2025-02-09 17:30:45 -0500 (Sun, 09 Feb 2025) EllapsedTime: 1.2 seconds RetCode: 0 Status: OK PackageFile: MODA_1.33.0.tar.gz PackageFileSize: 296.2 KiB