Package: MODA Version: 1.33.0 Command: /Library/Frameworks/R.framework/Resources/bin/R CMD check --install=check:MODA.install-out.txt --library=/Library/Frameworks/R.framework/Resources/library --no-vignettes --timings MODA_1.33.0.tar.gz StartedAt: 2025-02-09 22:00:53 -0500 (Sun, 09 Feb 2025) EndedAt: 2025-02-09 22:03:19 -0500 (Sun, 09 Feb 2025) EllapsedTime: 145.3 seconds RetCode: 0 Status: OK CheckDir: MODA.Rcheck Warnings: 0