Package: MODA Version: 1.33.0 Command: /Library/Frameworks/R.framework/Resources/bin/R CMD INSTALL MODA StartedAt: 2025-02-09 15:31:55 -0500 (Sun, 09 Feb 2025) EndedAt: 2025-02-09 15:32:20 -0500 (Sun, 09 Feb 2025) EllapsedTime: 25.4 seconds RetCode: 0 Status: OK