Package: MODA Version: 1.33.0 Command: rm -rf MODA.buildbin-libdir && mkdir MODA.buildbin-libdir && E:\biocbuild\bbs-3.21-bioc\R\bin\R.exe CMD INSTALL --build --library=MODA.buildbin-libdir MODA_1.33.0.tar.gz StartedAt: 2025-02-05 08:22:58 -0500 (Wed, 05 Feb 2025) EndedAt: 2025-02-05 08:23:27 -0500 (Wed, 05 Feb 2025) EllapsedTime: 28.8 seconds RetCode: 0 Status: OK PackageFile: MODA_1.33.0.zip PackageFileSize: 360.1 KiB