Package: MODA Version: 1.33.0 Command: chmod a+r MODA -R && E:\biocbuild\bbs-3.21-bioc\R\bin\R.exe CMD build --keep-empty-dirs --no-resave-data MODA StartedAt: 2025-02-04 20:02:59 -0500 (Tue, 04 Feb 2025) EndedAt: 2025-02-04 20:03:02 -0500 (Tue, 04 Feb 2025) EllapsedTime: 3.0 seconds RetCode: 0 Status: OK PackageFile: MODA_1.33.0.tar.gz PackageFileSize: 296.2 KiB