Package: MODA Version: 1.33.0 Command: E:\biocbuild\bbs-3.21-bioc\R\bin\R.exe CMD INSTALL MODA StartedAt: 2025-02-04 16:27:22 -0500 (Tue, 04 Feb 2025) EndedAt: 2025-02-04 16:27:53 -0500 (Tue, 04 Feb 2025) EllapsedTime: 31.7 seconds RetCode: 0 Status: OK