Package: MOFA2 Version: 1.17.0 Command: /home/biocbuild/R/R/bin/R CMD check --install=check:MOFA2.install-out.txt --library=/home/biocbuild/R/R/site-library --no-vignettes --timings MOFA2_1.17.0.tar.gz StartedAt: 2025-01-28 12:40:22 -0000 (Tue, 28 Jan 2025) EndedAt: 2025-01-28 12:45:13 -0000 (Tue, 28 Jan 2025) EllapsedTime: 290.4 seconds RetCode: 0 Status: WARNINGS CheckDir: MOFA2.Rcheck Warnings: 1