Package: MOFA2 Version: 1.17.0 Command: /Library/Frameworks/R.framework/Resources/bin/R CMD build --keep-empty-dirs --no-resave-data MOFA2 StartedAt: 2025-02-09 17:30:49 -0500 (Sun, 09 Feb 2025) EndedAt: 2025-02-09 17:33:48 -0500 (Sun, 09 Feb 2025) EllapsedTime: 179.2 seconds RetCode: 0 Status: OK PackageFile: MOFA2_1.17.0.tar.gz PackageFileSize: 4.355 MiB