Package: MOFA2 Version: 1.17.0 Command: /Library/Frameworks/R.framework/Resources/bin/R CMD check --install=check:MOFA2.install-out.txt --library=/Library/Frameworks/R.framework/Resources/library --no-vignettes --timings MOFA2_1.17.0.tar.gz StartedAt: 2025-02-09 22:02:07 -0500 (Sun, 09 Feb 2025) EndedAt: 2025-02-09 22:06:03 -0500 (Sun, 09 Feb 2025) EllapsedTime: 236.0 seconds RetCode: 0 Status: WARNINGS CheckDir: MOFA2.Rcheck Warnings: 1