Package: MOFA2 Version: 1.17.0 Command: /Library/Frameworks/R.framework/Resources/bin/R CMD INSTALL MOFA2 StartedAt: 2025-02-09 15:12:19 -0500 (Sun, 09 Feb 2025) EndedAt: 2025-02-09 15:12:55 -0500 (Sun, 09 Feb 2025) EllapsedTime: 36.2 seconds RetCode: 0 Status: OK