Package: MOFA2 Version: 1.17.0 Command: /home/biocbuild/bbs-3.21-bioc/R/bin/R CMD check --install=check:MOFA2.install-out.txt --library=/home/biocbuild/bbs-3.21-bioc/R/site-library --timings MOFA2_1.17.0.tar.gz StartedAt: 2025-02-10 00:20:12 -0500 (Mon, 10 Feb 2025) EndedAt: 2025-02-10 00:25:34 -0500 (Mon, 10 Feb 2025) EllapsedTime: 322.4 seconds RetCode: 0 Status: WARNINGS CheckDir: MOFA2.Rcheck Warnings: 1