Package: MOFA2 Version: 1.17.0 Command: /home/biocbuild/bbs-3.21-bioc/R/bin/R CMD INSTALL MOFA2 StartedAt: 2025-02-09 15:34:46 -0500 (Sun, 09 Feb 2025) EndedAt: 2025-02-09 15:35:07 -0500 (Sun, 09 Feb 2025) EllapsedTime: 21.7 seconds RetCode: 0 Status: OK