Package: MOFA2 Version: 1.17.0 Command: chmod a+r MOFA2 -R && E:\biocbuild\bbs-3.21-bioc\R\bin\R.exe CMD build --keep-empty-dirs --no-resave-data MOFA2 StartedAt: 2025-02-12 20:06:04 -0500 (Wed, 12 Feb 2025) EndedAt: 2025-02-12 20:15:31 -0500 (Wed, 12 Feb 2025) EllapsedTime: 567.5 seconds RetCode: 0 Status: OK PackageFile: MOFA2_1.17.0.tar.gz PackageFileSize: 3.134 MiB