Package: MOGAMUN Version: 1.17.0 Command: /Library/Frameworks/R.framework/Resources/bin/R CMD check --install=check:MOGAMUN.install-out.txt --library=/Library/Frameworks/R.framework/Resources/library --no-vignettes --timings MOGAMUN_1.17.0.tar.gz StartedAt: 2025-02-09 20:12:01 -0500 (Sun, 09 Feb 2025) EndedAt: 2025-02-09 20:12:25 -0500 (Sun, 09 Feb 2025) EllapsedTime: 23.3 seconds RetCode: 0 Status: OK CheckDir: MOGAMUN.Rcheck Warnings: 0