Package: MOGAMUN Version: 1.17.0 Command: /home/biocbuild/R/R/bin/R CMD check --install=check:MOGAMUN.install-out.txt --library=/home/biocbuild/R/R/site-library --no-vignettes --timings MOGAMUN_1.17.0.tar.gz StartedAt: 2025-01-28 12:40:25 -0000 (Tue, 28 Jan 2025) EndedAt: 2025-01-28 12:41:40 -0000 (Tue, 28 Jan 2025) EllapsedTime: 75.1 seconds RetCode: 0 Status: OK CheckDir: MOGAMUN.Rcheck Warnings: 0