Package: MOGAMUN Version: 1.17.0 Command: /Library/Frameworks/R.framework/Resources/bin/R CMD build --keep-empty-dirs --no-resave-data MOGAMUN StartedAt: 2025-02-12 17:26:18 -0500 (Wed, 12 Feb 2025) EndedAt: 2025-02-12 17:26:34 -0500 (Wed, 12 Feb 2025) EllapsedTime: 16.0 seconds RetCode: 0 Status: OK PackageFile: MOGAMUN_1.17.0.tar.gz PackageFileSize: 125.6 KiB