Package: MOGAMUN Version: 1.17.0 Command: /home/biocbuild/bbs-3.21-bioc/R/bin/R CMD check --install=check:MOGAMUN.install-out.txt --library=/home/biocbuild/bbs-3.21-bioc/R/site-library --timings MOGAMUN_1.17.0.tar.gz StartedAt: 2025-02-13 00:21:00 -0500 (Thu, 13 Feb 2025) EndedAt: 2025-02-13 00:21:57 -0500 (Thu, 13 Feb 2025) EllapsedTime: 57.1 seconds RetCode: 0 Status: OK CheckDir: MOGAMUN.Rcheck Warnings: 0