Package: MOGAMUN Version: 1.17.0 Command: rm -rf MOGAMUN.buildbin-libdir && mkdir MOGAMUN.buildbin-libdir && E:\biocbuild\bbs-3.21-bioc\R\bin\R.exe CMD INSTALL --build --library=MOGAMUN.buildbin-libdir MOGAMUN_1.17.0.tar.gz StartedAt: 2025-02-10 08:10:57 -0500 (Mon, 10 Feb 2025) EndedAt: 2025-02-10 08:11:31 -0500 (Mon, 10 Feb 2025) EllapsedTime: 34.1 seconds RetCode: 0 Status: OK PackageFile: MOGAMUN_1.17.0.zip PackageFileSize: 184 KiB