Package: MOGAMUN Version: 1.17.0 Command: E:\biocbuild\bbs-3.21-bioc\R\bin\R.exe CMD check --no-multiarch --install=check:MOGAMUN.install-out.txt --library=E:\biocbuild\bbs-3.21-bioc\R\library --no-vignettes --timings MOGAMUN_1.17.0.tar.gz StartedAt: 2025-02-10 03:06:51 -0500 (Mon, 10 Feb 2025) EndedAt: 2025-02-10 03:07:59 -0500 (Mon, 10 Feb 2025) EllapsedTime: 67.5 seconds RetCode: 0 Status: OK CheckDir: MOGAMUN.Rcheck Warnings: 0