Package: MOMA Version: 1.19.0 Command: /Library/Frameworks/R.framework/Resources/bin/R CMD build --keep-empty-dirs --no-resave-data MOMA StartedAt: 2025-02-09 16:59:44 -0500 (Sun, 09 Feb 2025) EndedAt: 2025-02-09 17:00:31 -0500 (Sun, 09 Feb 2025) EllapsedTime: 47.5 seconds RetCode: 0 Status: OK PackageFile: MOMA_1.19.0.tar.gz PackageFileSize: 4.263 MiB