Package: MOMA Version: 1.19.0 Command: /Library/Frameworks/R.framework/Resources/bin/R CMD check --install=check:MOMA.install-out.txt --library=/Library/Frameworks/R.framework/Resources/library --no-vignettes --timings MOMA_1.19.0.tar.gz StartedAt: 2025-02-09 20:12:27 -0500 (Sun, 09 Feb 2025) EndedAt: 2025-02-09 20:13:47 -0500 (Sun, 09 Feb 2025) EllapsedTime: 79.9 seconds RetCode: 0 Status: OK CheckDir: MOMA.Rcheck Warnings: 0