Package: MOMA Version: 1.19.0 Command: /home/biocbuild/R/R/bin/R CMD build --keep-empty-dirs --no-resave-data MOMA StartedAt: 2025-01-29 00:29:48 -0000 (Wed, 29 Jan 2025) EndedAt: 2025-01-29 00:32:21 -0000 (Wed, 29 Jan 2025) EllapsedTime: 153.1 seconds RetCode: 0 Status: OK PackageFile: MOMA_1.19.0.tar.gz PackageFileSize: 4.254 MiB